BEGIN:VCALENDAR
VERSION:2.0
PRODID:-//Diocèse de Troyes - ECPv6.15.20//NONSGML v1.0//EN
CALSCALE:GREGORIAN
METHOD:PUBLISH
X-WR-CALNAME:Diocèse de Troyes
X-ORIGINAL-URL:https://www.cathotroyes.fr
X-WR-CALDESC:Évènements pour Diocèse de Troyes
REFRESH-INTERVAL;VALUE=DURATION:PT1H
X-Robots-Tag:noindex
X-PUBLISHED-TTL:PT1H
BEGIN:VTIMEZONE
TZID:UTC
BEGIN:STANDARD
TZOFFSETFROM:+0000
TZOFFSETTO:+0000
TZNAME:UTC
DTSTART:20250101T000000
END:STANDARD
END:VTIMEZONE
BEGIN:VEVENT
DTSTART;TZID=UTC:20260219T200000
DTEND;TZID=UTC:20260220T080000
DTSTAMP:20260424T132614
CREATED:20260216T122507Z
LAST-MODIFIED:20260216T122507Z
UID:5063-1771531200-1771574400@www.cathotroyes.fr
SUMMARY:Veillez et priez : adoration du Christ
DESCRIPTION:Le sanctuaire eucharistique du diocèse de Troyes et le Monastère Notre Dame des Anges vous proposent de vous engager à venir adorer le Christ pendant 1 h\, entre 20h et 8h du matin\, la nuit de chaque jeudi de carême au 26 rue Mitantier. \nDates : \n\nJeudi 19 février\nJeudi 26 février\nJeudi 5 mars\nJeudi 12 mars\nJeudi 19 mars\nJeudi 26 mars\n\nInscription obligatoire : \nInscription en indiquant vos nom\, prénom\, adresse mail\, numéro de téléphone\, fréquence de l’engagement \n\nsanctuaire.eucharistique@orange.fr\nou la donner à la Soeur Sacristine\nou la mettre dans la boite aux lettres du monastère
URL:https://www.cathotroyes.fr/evenement/veillez-et-priez-adoration-du-christ/
LOCATION:Monastère Notre-Dame des Anges\, 26 rue Mitantier\, Troyes\, 10000
CATEGORIES:Carême,Prière
END:VEVENT
BEGIN:VEVENT
DTSTART;TZID=UTC:20260224T203000
DTEND;TZID=UTC:20260224T203000
DTSTAMP:20260424T132614
CREATED:20260224T132627Z
LAST-MODIFIED:20260224T132627Z
UID:5135-1771965000-1771965000@www.cathotroyes.fr
SUMMARY:Adoration eucharistique - Saint-Urbain
DESCRIPTION:Adoration eucharistique\, tous les mardis de Carême\, à Saint-Urbain\, à 20h30
URL:https://www.cathotroyes.fr/evenement/adoration-eucharistique-saint-urbain/
LOCATION:Basilique Saint-Urbain\, Place Vernier\, Troyes\, 10000
CATEGORIES:Carême,Prière
ORGANIZER;CN="Paroisse Saint-Bernard":MAILTO:stbernard23@orange.fr
END:VEVENT
BEGIN:VEVENT
DTSTART;TZID=UTC:20260225T190000
DTEND;TZID=UTC:20260225T190000
DTSTAMP:20260424T132614
CREATED:20260216T143446Z
LAST-MODIFIED:20260216T143446Z
UID:5077-1772046000-1772046000@www.cathotroyes.fr
SUMMARY:Pause Théo - Romilly-sur-Seine
DESCRIPTION:Pause Théo le mercredi 25 février pour découvrir le « Voyage de la Fraternité ». Dans le cadre du carême\, découvrir cette initiative de solidarité avec ses responsables\, Jocelyne Nunez et Corine Marin.
URL:https://www.cathotroyes.fr/evenement/pause-theo-romilly-sur-seine/
LOCATION:Salle Saint-Martin Romilly\, 7 rue du Maréchal de Lattre de Tassigny\, Romilly-sur-Seine\, 10100
CATEGORIES:Carême,Rencontres
ATTACH;FMTTYPE=image/jpeg:https://www.cathotroyes.fr/wp-content/uploads/2026/02/Pause-theo_Voyage-fraternite_Romilly-scaled.jpg
ORGANIZER;CN="Paroisse Romilly-sur-Seine":MAILTO:ensemble.romillypont@gmail.com
END:VEVENT
BEGIN:VEVENT
DTSTART;TZID=UTC:20260226T200000
DTEND;TZID=UTC:20260227T080000
DTSTAMP:20260424T132614
CREATED:20260216T124602Z
LAST-MODIFIED:20260216T124813Z
UID:5065-1772136000-1772179200@www.cathotroyes.fr
SUMMARY:Veillez et priez : adoration du Christ
DESCRIPTION:Le sanctuaire eucharistique du diocèse de Troyes et le Monastère Notre Dame des Anges vous proposent de vous engager à venir adorer le Christ pendant 1 h\, entre 20h et 8h du matin\, la nuit de chaque jeudi de carême au 26 rue Mitantier. \nDates : \n\nJeudi 19 février\nJeudi 26 février\nJeudi 5 mars\nJeudi 12 mars\nJeudi 19 mars\nJeudi 26 mars\n\nInscription obligatoire : \nInscription en indiquant vos nom\, prénom\, adresse mail\, numéro de téléphone\, fréquence de l’engagement \n\nsanctuaire.eucharistique@orange.fr\nou la donner à la Soeur Sacristine\nou la mettre dans la boite aux lettres du monastère
URL:https://www.cathotroyes.fr/evenement/adoration-du-christ-careme2/
LOCATION:Monastère Notre-Dame des Anges\, 26 rue Mitantier\, Troyes\, 10000
CATEGORIES:Carême,Prière
END:VEVENT
BEGIN:VEVENT
DTSTART;TZID=UTC:20260227T190000
DTEND;TZID=UTC:20260227T190000
DTSTAMP:20260424T132614
CREATED:20260216T141646Z
LAST-MODIFIED:20260219T120112Z
UID:5075-1772218800-1772218800@www.cathotroyes.fr
SUMMARY:Conférence de Carême - Brienne-le-Château
DESCRIPTION:Dans le cadre du temps de Carême\, le groupe Laudato Si’ – Église verte vous invite à une soirée de réflexion spirituelle et écologique le vendredi 27 février à 19 h\, aux salles paroissiales de Brienne-le-Château. \n\n19h : partage pain-pomme au profit du CCFD–Terre Solidaire\, geste simple de solidarité et de sobriété.\n20h : Projection du film La Lettre\, qui traduit le message de Laudato Si’ de manière vivante\, accessible et incarnée\, à travers l’histoire de personnes de différents continents.\n21h : Intervention du Père Richard Lukaszawki\, vicaire général du diocèse\, qui apportera ensuite un éclairage spirituel pour aider chacun à relier ces enjeux à la Parole de Dieu et à l’appel à la conversion intérieure propre au Carême.
URL:https://www.cathotroyes.fr/evenement/conference-de-careme-brienne-le-chateau/
LOCATION:Salles paroissiales Brienne-le-Château\, 94 rue de l'École Militaire\, Brienne-le-Château\, 10500
CATEGORIES:Carême,Conférence
ORGANIZER;CN="Paroisse Brienne-le-Ch%C3%A2teau":MAILTO:paroissedebrienne@free.fr
END:VEVENT
END:VCALENDAR