BEGIN:VCALENDAR
VERSION:2.0
PRODID:-//Diocèse de Troyes - ECPv6.15.20//NONSGML v1.0//EN
CALSCALE:GREGORIAN
METHOD:PUBLISH
X-WR-CALNAME:Diocèse de Troyes
X-ORIGINAL-URL:https://www.cathotroyes.fr
X-WR-CALDESC:Évènements pour Diocèse de Troyes
REFRESH-INTERVAL;VALUE=DURATION:PT1H
X-Robots-Tag:noindex
X-PUBLISHED-TTL:PT1H
BEGIN:VTIMEZONE
TZID:UTC
BEGIN:STANDARD
TZOFFSETFROM:+0000
TZOFFSETTO:+0000
TZNAME:UTC
DTSTART:20250101T000000
END:STANDARD
END:VTIMEZONE
BEGIN:VTIMEZONE
TZID:Europe/Paris
BEGIN:DAYLIGHT
TZOFFSETFROM:+0100
TZOFFSETTO:+0200
TZNAME:CEST
DTSTART:20250330T010000
END:DAYLIGHT
BEGIN:STANDARD
TZOFFSETFROM:+0200
TZOFFSETTO:+0100
TZNAME:CET
DTSTART:20251026T010000
END:STANDARD
BEGIN:DAYLIGHT
TZOFFSETFROM:+0100
TZOFFSETTO:+0200
TZNAME:CEST
DTSTART:20260329T010000
END:DAYLIGHT
BEGIN:STANDARD
TZOFFSETFROM:+0200
TZOFFSETTO:+0100
TZNAME:CET
DTSTART:20261025T010000
END:STANDARD
BEGIN:DAYLIGHT
TZOFFSETFROM:+0100
TZOFFSETTO:+0200
TZNAME:CEST
DTSTART:20270328T010000
END:DAYLIGHT
BEGIN:STANDARD
TZOFFSETFROM:+0200
TZOFFSETTO:+0100
TZNAME:CET
DTSTART:20271031T010000
END:STANDARD
END:VTIMEZONE
BEGIN:VEVENT
DTSTART;TZID=UTC:20260303T203000
DTEND;TZID=UTC:20260303T203000
DTSTAMP:20260424T115118
CREATED:20260224T132915Z
LAST-MODIFIED:20260224T132915Z
UID:5137-1772569800-1772569800@www.cathotroyes.fr
SUMMARY:Adoration eucharistique - Saint-Urbain
DESCRIPTION:Adoration eucharistique\, tous les mardis de Carême\, à Saint-Urbain\, à 20h30
URL:https://www.cathotroyes.fr/evenement/adoration-eucharistique-saint-urbain-2/
LOCATION:Basilique Saint-Urbain\, Place Vernier\, Troyes\, 10000
CATEGORIES:Carême
ORGANIZER;CN="Paroisse Saint-Bernard":MAILTO:stbernard23@orange.fr
END:VEVENT
BEGIN:VEVENT
DTSTART;TZID=UTC:20260305T200000
DTEND;TZID=UTC:20260306T080000
DTSTAMP:20260424T115118
CREATED:20260216T125604Z
LAST-MODIFIED:20260216T134955Z
UID:5067-1772740800-1772784000@www.cathotroyes.fr
SUMMARY:Veillez et priez : adoration du Christ
DESCRIPTION:Le sanctuaire eucharistique du diocèse de Troyes et le Monastère Notre Dame des Anges vous proposent de vous engager à venir adorer le Christ pendant 1 h\, entre 20h et 8h du matin\, la nuit de chaque jeudi de carême au 26 rue Mitantier. \nDates : \n\nJeudi 19 février\nJeudi 26 février\nJeudi 5 mars\nJeudi 12 mars\nJeudi 19 mars\nJeudi 26 mars\n\nInscription obligatoire : \nInscription en indiquant vos nom\, prénom\, adresse mail\, numéro de téléphone\, fréquence de l’engagement \n\nsanctuaire.eucharistique@orange.fr\nou la donner à la Soeur Sacristine\nou la mettre dans la boite aux lettres du monastère
URL:https://www.cathotroyes.fr/evenement/adoration-du-christ-careme3/
LOCATION:Monastère Notre-Dame des Anges\, 26 rue Mitantier\, Troyes\, 10000
CATEGORIES:Carême,Prière
END:VEVENT
BEGIN:VEVENT
DTSTART;TZID=UTC:20260310T203000
DTEND;TZID=UTC:20260310T203000
DTSTAMP:20260424T115118
CREATED:20260224T132950Z
LAST-MODIFIED:20260224T132950Z
UID:5139-1773174600-1773174600@www.cathotroyes.fr
SUMMARY:Adoration eucharistique - Saint-Urbain
DESCRIPTION:Adoration eucharistique\, tous les mardis de Carême\, à Saint-Urbain\, à 20h30
URL:https://www.cathotroyes.fr/evenement/adoration-eucharistique-saint-urbain-3/
LOCATION:Basilique Saint-Urbain\, Place Vernier\, Troyes\, 10000
CATEGORIES:Carême
ORGANIZER;CN="Paroisse Saint-Bernard":MAILTO:stbernard23@orange.fr
END:VEVENT
BEGIN:VEVENT
DTSTART;TZID=UTC:20260312T123000
DTEND;TZID=UTC:20260312T193000
DTSTAMP:20260424T115118
CREATED:20260226T135400Z
LAST-MODIFIED:20260226T135400Z
UID:5153-1773318600-1773343800@www.cathotroyes.fr
SUMMARY:Journée de la mi-Carême
DESCRIPTION:L’ensemble paroissial de Pont-Sainte-Marie propose une journée pour la mi-Carême \n\n12h30 : messe\n13h – 18h : adoration du Saint-Sacrement\n17h – 18h: possibilité de recevoir le Sacrement du Pardon\n18h : Vêpres et bénédiction du Saint Sacrement
URL:https://www.cathotroyes.fr/evenement/journee-de-la-mi-careme/
LOCATION:Église Pont-Sainte-Marie\, 16 rue Louis Pasteur\, Pont-Sainte-Marie\, 10150
CATEGORIES:Carême
ORGANIZER;CN="Paroisse Pont-Sainte-Marie":MAILTO:presbytere.paroisse@sfr.fr
END:VEVENT
BEGIN:VEVENT
DTSTART;TZID=UTC:20260312T200000
DTEND;TZID=UTC:20260313T080000
DTSTAMP:20260424T115118
CREATED:20260216T135616Z
LAST-MODIFIED:20260216T135616Z
UID:5069-1773345600-1773388800@www.cathotroyes.fr
SUMMARY:Veillez et priez : adoration du Christ
DESCRIPTION:Le sanctuaire eucharistique du diocèse de Troyes et le Monastère Notre Dame des Anges vous proposent de vous engager à venir adorer le Christ pendant 1 h\, entre 20h et 8h du matin\, la nuit de chaque jeudi de carême au 26 rue Mitantier. \nDates : \n\nJeudi 19 février\nJeudi 26 février\nJeudi 5 mars\nJeudi 12 mars\nJeudi 19 mars\nJeudi 26 mars\n\nInscription obligatoire : \nInscription en indiquant vos nom\, prénom\, adresse mail\, numéro de téléphone\, fréquence de l’engagement \n\nsanctuaire.eucharistique@orange.fr\nou la donner à la Soeur Sacristine\nou la mettre dans la boite aux lettres du monastère
URL:https://www.cathotroyes.fr/evenement/adoration-du-christ-careme4/
LOCATION:Monastère Notre-Dame des Anges\, 26 rue Mitantier\, Troyes\, 10000
CATEGORIES:Carême,Prière
END:VEVENT
BEGIN:VEVENT
DTSTART;TZID=UTC:20260315T180000
DTEND;TZID=UTC:20260315T180000
DTSTAMP:20260424T115118
CREATED:20260216T150331Z
LAST-MODIFIED:20260227T134215Z
UID:5084-1773597600-1773597600@www.cathotroyes.fr
SUMMARY:Prière pour les personnes victimes
DESCRIPTION:La journée mémorielle\, voulue par les évêques de France à l’issue de l’Assemblée plénière de mars 2021\, prend désormais place dans le calendrier liturgique de façon pérenne\, le troisième vendredi de Carême. Elle répond à l’invitation du pape François à vivre une journée de prières pour les victimes de violences sexuelles et d’abus de pouvoir et de conscience au sein de l’Église. \nDans le cadre de cette journée\, un temps de prière mémoriel est proposé à la cathédrale à 18h
URL:https://www.cathotroyes.fr/evenement/journee-de-priere-et-de-memoire-pour-les-personnes-victimes/
LOCATION:Cathédrale Saint-Pierre Saint-Paul\, place Saint-Pierre\, Troyes\, 10000
CATEGORIES:Carême,Prière
END:VEVENT
BEGIN:VEVENT
DTSTART;TZID=UTC:20260317T203000
DTEND;TZID=UTC:20260317T203000
DTSTAMP:20260424T115118
CREATED:20260224T133311Z
LAST-MODIFIED:20260224T133311Z
UID:5141-1773779400-1773779400@www.cathotroyes.fr
SUMMARY:Adoration eucharistique - Saint-Urbain
DESCRIPTION:Adoration eucharistique\, tous les mardis de Carême\, à Saint-Urbain\, à 20h30
URL:https://www.cathotroyes.fr/evenement/adoration-eucharistique-saint-urbain-4/
LOCATION:Basilique Saint-Urbain\, Place Vernier\, Troyes\, 10000
CATEGORIES:Carême
ORGANIZER;CN="Paroisse Saint-Bernard":MAILTO:stbernard23@orange.fr
END:VEVENT
BEGIN:VEVENT
DTSTART;TZID=Europe/Paris:20260322T150000
DTEND;TZID=Europe/Paris:20260322T150000
DTSTAMP:20260424T115118
CREATED:20260316T101106Z
LAST-MODIFIED:20260317T150025Z
UID:5321-1774191600-1774191600@www.cathotroyes.fr
SUMMARY:Journée du Pardon - Romilly
DESCRIPTION:Ce jour là\, les enfants de 2nd année de KT vivront une préparation pour vivre leur premier sacrement de la réconciliation. \nVous êtes invités à les rejoindre à 15h à l’église St Martin pour vivre vous aussi ce sacrement. \nDes prêtres extérieurs à la paroisse seront présents.
URL:https://www.cathotroyes.fr/evenement/journee-du-pardon-romilly/
LOCATION:Eglise Saint-Matin\, Romilly\, rue Arago\, Romilly-sur-Seine\, 10100
CATEGORIES:Carême,Célébrations,Paroisses
ORGANIZER;CN="Paroisse Romilly-sur-Seine":MAILTO:ensemble.romillypont@gmail.com
END:VEVENT
BEGIN:VEVENT
DTSTART;TZID=UTC:20260323T190000
DTEND;TZID=UTC:20260328T210000
DTSTAMP:20260424T115118
CREATED:20260122T100102Z
LAST-MODIFIED:20260317T161524Z
UID:4977-1774292400-1774731600@www.cathotroyes.fr
SUMMARY:Retraite dans la ville
DESCRIPTION:La pastorale des étudiants et jeunes pro organise une retraite dans la ville. Chaque soir\, chez les sœurs Oblates de Saint-François de Sales : enseignement\, partage\, oraison et accompagnement personnel. \nInformations et inscription : \nSur le site des Oblates de Saint-François de Sales
URL:https://www.cathotroyes.fr/evenement/retraite-dans-la-ville/
LOCATION:Maison Mère des Oblates\, 4 rue des Terrasses\, Troyes\, 10000
CATEGORIES:Carême,Jeunes
ATTACH;FMTTYPE=image/jpeg:https://www.cathotroyes.fr/wp-content/uploads/2026/01/23.28.03.RETRAITE_DANS_LA_VILLE.jpeg
ORGANIZER;CN="Pastorale des %C3%A9tudiants et jeunes pro":MAILTO:etudiants@cathotroyes.fr
END:VEVENT
BEGIN:VEVENT
DTSTART;TZID=UTC:20260324T203000
DTEND;TZID=UTC:20260324T203000
DTSTAMP:20260424T115118
CREATED:20260224T133402Z
LAST-MODIFIED:20260224T133402Z
UID:5143-1774384200-1774384200@www.cathotroyes.fr
SUMMARY:Adoration eucharistique - Saint-Urbain
DESCRIPTION:Adoration eucharistique\, tous les mardis de Carême\, à Saint-Urbain\, à 20h30
URL:https://www.cathotroyes.fr/evenement/adoration-eucharistique-saint-urbain-5/
LOCATION:Basilique Saint-Urbain\, Place Vernier\, Troyes\, 10000
CATEGORIES:Carême
ORGANIZER;CN="Paroisse Saint-Bernard":MAILTO:stbernard23@orange.fr
END:VEVENT
BEGIN:VEVENT
DTSTART;TZID=UTC:20260326T200000
DTEND;TZID=UTC:20260327T080000
DTSTAMP:20260424T115118
CREATED:20260216T140317Z
LAST-MODIFIED:20260216T140317Z
UID:5073-1774555200-1774598400@www.cathotroyes.fr
SUMMARY:Veillez et priez : adoration du Christ
DESCRIPTION:Le sanctuaire eucharistique du diocèse de Troyes et le Monastère Notre Dame des Anges vous proposent de vous engager à venir adorer le Christ pendant 1 h\, entre 20h et 8h du matin\, la nuit de chaque jeudi de carême au 26 rue Mitantier. \nDates : \n\nJeudi 19 février\nJeudi 26 février\nJeudi 5 mars\nJeudi 12 mars\nJeudi 19 mars\nJeudi 26 mars\n\nInscription obligatoire : \nInscription en indiquant vos nom\, prénom\, adresse mail\, numéro de téléphone\, fréquence de l’engagement \n\nsanctuaire.eucharistique@orange.fr\nou la donner à la Sœur Sacristine\nou la mettre dans la boite aux lettres du monastère
URL:https://www.cathotroyes.fr/evenement/adoration-du-christ6/
LOCATION:Monastère Notre-Dame des Anges\, 26 rue Mitantier\, Troyes\, 10000
CATEGORIES:Carême,Prière
END:VEVENT
BEGIN:VEVENT
DTSTART;TZID=Europe/Paris:20260331T170000
DTEND;TZID=Europe/Paris:20260331T170000
DTSTAMP:20260424T115118
CREATED:20260323T111106Z
LAST-MODIFIED:20260323T111131Z
UID:5399-1774976400-1774976400@www.cathotroyes.fr
SUMMARY:Vœux de Pâques de Monseigneur Alexandre Joly
DESCRIPTION:Avant de célébrer la messe chrismale\, les chrétiens du diocèse sont invités à se retrouver en salle Val de l’Isle\, avec les prêtres\, les diacres et leurs épouses\, pour les vœux de Pâques : moment où Monseigneur Alexandre Joly\, évêque de Troyes aura l’occasion de partager ce qui anime la vie du diocèse.
URL:https://www.cathotroyes.fr/evenement/voeux-paques/
LOCATION:Maison Diocésaine Notre-Dame en l’Isle\, 9 boulevard Henri Barbusse\, Troyes\, 10000\, France
CATEGORIES:Carême,Rencontres
END:VEVENT
BEGIN:VEVENT
DTSTART;TZID=Europe/Paris:20260331T183000
DTEND;TZID=Europe/Paris:20260331T183000
DTSTAMP:20260424T115118
CREATED:20260317T161037Z
LAST-MODIFIED:20260317T161037Z
UID:5343-1774981800-1774981800@www.cathotroyes.fr
SUMMARY:Messe chrismale
DESCRIPTION:La messe chrismale sera célébrée mardi 31 mars\, 18h30\, en la cathédrale Saint-Pierre Saint-Paul de Troyes. \nPour en savoir plus sur la messe chrismale\, rendez-vous ici.
URL:https://www.cathotroyes.fr/evenement/messe-chrismale/
LOCATION:Cathédrale Saint-Pierre Saint-Paul\, place Saint-Pierre\, Troyes\, 10000
CATEGORIES:Carême,Célébrations
END:VEVENT
END:VCALENDAR